Workbook

Sheet Top Sheet
A1: FILM BUDGET: TOP SHEET
A2: Totals pull from the Detail tab. Only fill in the header and the contingency %.
A4: Project | D4: Producer
A5: Director | D5: Format
A6: Shoot days | D6: Budget version
A8: Acct | B8: Category | C8: Estimate | D8: Actual | E8: Variance | F8: % of total
B9: ABOVE THE LINE
A10: 1100 | B10: Story and rights | C10: =SUMIF('Detail'!$A$5:$A$97,A10,'Detail'!$G$5:$G$97) | D10: =SUMIF('Detail'!$A$5:$A$97,A10,'Detail'!$H$5:$H$97) | E10: =IF(D10=0,"",C10-D10) | F10: =IF($C$48=0,"",C10/$C$48)
A11: 1200 | B11: Writer | C11: =SUMIF('Detail'!$A$5:$A$97,A11,'Detail'!$G$5:$G$97) | D11: =SUMIF('Detail'!$A$5:$A$97,A11,'Detail'!$H$5:$H$97) | E11: =IF(D11=0,"",C11-D11) | F11: =IF($C$48=0,"",C11/$C$48)
A12: 1300 | B12: Producers | C12: =SUMIF('Detail'!$A$5:$A$97,A12,'Detail'!$G$5:$G$97) | D12: =SUMIF('Detail'!$A$5:$A$97,A12,'Detail'!$H$5:$H$97) | E12: =IF(D12=0,"",C12-D12) | F12: =IF($C$48=0,"",C12/$C$48)
A13: 1400 | B13: Director | C13: =SUMIF('Detail'!$A$5:$A$97,A13,'Detail'!$G$5:$G$97) | D13: =SUMIF('Detail'!$A$5:$A$97,A13,'Detail'!$H$5:$H$97) | E13: =IF(D13=0,"",C13-D13) | F13: =IF($C$48=0,"",C13/$C$48)
A14: 1500 | B14: Cast | C14: =SUMIF('Detail'!$A$5:$A$97,A14,'Detail'!$G$5:$G$97) | D14: =SUMIF('Detail'!$A$5:$A$97,A14,'Detail'!$H$5:$H$97) | E14: =IF(D14=0,"",C14-D14) | F14: =IF($C$48=0,"",C14/$C$48)
B15: Total above the line | C15: =SUM(C10:C14) | D15: =SUM(D10:D14) | E15: =IF(D15=0,"",C15-D15) | F15: =IF($C$48=0,"",C15/$C$48)
B17: BELOW THE LINE: PRODUCTION
A18: 2000 | B18: Production staff | C18: =SUMIF('Detail'!$A$5:$A$97,A18,'Detail'!$G$5:$G$97) | D18: =SUMIF('Detail'!$A$5:$A$97,A18,'Detail'!$H$5:$H$97) | E18: =IF(D18=0,"",C18-D18) | F18: =IF($C$48=0,"",C18/$C$48)
A19: 2100 | B19: Camera | C19: =SUMIF('Detail'!$A$5:$A$97,A19,'Detail'!$G$5:$G$97) | D19: =SUMIF('Detail'!$A$5:$A$97,A19,'Detail'!$H$5:$H$97) | E19: =IF(D19=0,"",C19-D19) | F19: =IF($C$48=0,"",C19/$C$48)
A20: 2200 | B20: Grip and electric | C20: =SUMIF('Detail'!$A$5:$A$97,A20,'Detail'!$G$5:$G$97) | D20: =SUMIF('Detail'!$A$5:$A$97,A20,'Detail'!$H$5:$H$97) | E20: =IF(D20=0,"",C20-D20) | F20: =IF($C$48=0,"",C20/$C$48)
A21: 2300 | B21: Sound | C21: =SUMIF('Detail'!$A$5:$A$97,A21,'Detail'!$G$5:$G$97) | D21: =SUMIF('Detail'!$A$5:$A$97,A21,'Detail'!$H$5:$H$97) | E21: =IF(D21=0,"",C21-D21) | F21: =IF($C$48=0,"",C21/$C$48)
A22: 2400 | B22: Art department | C22: =SUMIF('Detail'!$A$5:$A$97,A22,'Detail'!$G$5:$G$97) | D22: =SUMIF('Detail'!$A$5:$A$97,A22,'Detail'!$H$5:$H$97) | E22: =IF(D22=0,"",C22-D22) | F22: =IF($C$48=0,"",C22/$C$48)
A23: 2500 | B23: Wardrobe, hair and makeup | C23: =SUMIF('Detail'!$A$5:$A$97,A23,'Detail'!$G$5:$G$97) | D23: =SUMIF('Detail'!$A$5:$A$97,A23,'Detail'!$H$5:$H$97) | E23: =IF(D23=0,"",C23-D23) | F23: =IF($C$48=0,"",C23/$C$48)
A24: 2600 | B24: Locations | C24: =SUMIF('Detail'!$A$5:$A$97,A24,'Detail'!$G$5:$G$97) | D24: =SUMIF('Detail'!$A$5:$A$97,A24,'Detail'!$H$5:$H$97) | E24: =IF(D24=0,"",C24-D24) | F24: =IF($C$48=0,"",C24/$C$48)
A25: 2700 | B25: Transportation | C25: =SUMIF('Detail'!$A$5:$A$97,A25,'Detail'!$G$5:$G$97) | D25: =SUMIF('Detail'!$A$5:$A$97,A25,'Detail'!$H$5:$H$97) | E25: =IF(D25=0,"",C25-D25) | F25: =IF($C$48=0,"",C25/$C$48)
A26: 2800 | B26: Catering and craft services | C26: =SUMIF('Detail'!$A$5:$A$97,A26,'Detail'!$G$5:$G$97) | D26: =SUMIF('Detail'!$A$5:$A$97,A26,'Detail'!$H$5:$H$97) | E26: =IF(D26=0,"",C26-D26) | F26: =IF($C$48=0,"",C26/$C$48)
A27: 2900 | B27: Special equipment and effects | C27: =SUMIF('Detail'!$A$5:$A$97,A27,'Detail'!$G$5:$G$97) | D27: =SUMIF('Detail'!$A$5:$A$97,A27,'Detail'!$H$5:$H$97) | E27: =IF(D27=0,"",C27-D27) | F27: =IF($C$48=0,"",C27/$C$48)
B28: Total production | C28: =SUM(C18:C27) | D28: =SUM(D18:D27) | E28: =IF(D28=0,"",C28-D28) | F28: =IF($C$48=0,"",C28/$C$48)
B30: POST-PRODUCTION
A31: 3000 | B31: Editing | C31: =SUMIF('Detail'!$A$5:$A$97,A31,'Detail'!$G$5:$G$97) | D31: =SUMIF('Detail'!$A$5:$A$97,A31,'Detail'!$H$5:$H$97) | E31: =IF(D31=0,"",C31-D31) | F31: =IF($C$48=0,"",C31/$C$48)
A32: 3100 | B32: Sound post and music | C32: =SUMIF('Detail'!$A$5:$A$97,A32,'Detail'!$G$5:$G$97) | D32: =SUMIF('Detail'!$A$5:$A$97,A32,'Detail'!$H$5:$H$97) | E32: =IF(D32=0,"",C32-D32) | F32: =IF($C$48=0,"",C32/$C$48)
A33: 3200 | B33: Color and VFX | C33: =SUMIF('Detail'!$A$5:$A$97,A33,'Detail'!$G$5:$G$97) | D33: =SUMIF('Detail'!$A$5:$A$97,A33,'Detail'!$H$5:$H$97) | E33: =IF(D33=0,"",C33-D33) | F33: =IF($C$48=0,"",C33/$C$48)
A34: 3300 | B34: Titles and deliverables | C34: =SUMIF('Detail'!$A$5:$A$97,A34,'Detail'!$G$5:$G$97) | D34: =SUMIF('Detail'!$A$5:$A$97,A34,'Detail'!$H$5:$H$97) | E34: =IF(D34=0,"",C34-D34) | F34: =IF($C$48=0,"",C34/$C$48)
B35: Total post-production | C35: =SUM(C31:C34) | D35: =SUM(D31:D34) | E35: =IF(D35=0,"",C35-D35) | F35: =IF($C$48=0,"",C35/$C$48)
B37: OTHER COSTS
A38: 4000 | B38: Insurance | C38: =SUMIF('Detail'!$A$5:$A$97,A38,'Detail'!$G$5:$G$97) | D38: =SUMIF('Detail'!$A$5:$A$97,A38,'Detail'!$H$5:$H$97) | E38: =IF(D38=0,"",C38-D38) | F38: =IF($C$48=0,"",C38/$C$48)
A39: 4100 | B39: Legal and accounting | C39: =SUMIF('Detail'!$A$5:$A$97,A39,'Detail'!$G$5:$G$97) | D39: =SUMIF('Detail'!$A$5:$A$97,A39,'Detail'!$H$5:$H$97) | E39: =IF(D39=0,"",C39-D39) | F39: =IF($C$48=0,"",C39/$C$48)
A40: 4200 | B40: Festivals and marketing | C40: =SUMIF('Detail'!$A$5:$A$97,A40,'Detail'!$G$5:$G$97) | D40: =SUMIF('Detail'!$A$5:$A$97,A40,'Detail'!$H$5:$H$97) | E40: =IF(D40=0,"",C40-D40) | F40: =IF($C$48=0,"",C40/$C$48)
B41: Total other costs | C41: =SUM(C38:C40) | D41: =SUM(D38:D40) | E41: =IF(D41=0,"",C41-D41) | F41: =IF($C$48=0,"",C41/$C$48)
B43: Total above the line | C43: =C15 | D43: =D15 | E43: =IF(D43=0,"",C43-D43) | F43: =IF($C$48=0,"",C43/$C$48)
B44: Total below the line (production, post, other) | C44: =C28+C35+C41 | D44: =D28+D35+D41 | E44: =IF(D44=0,"",C44-D44) | F44: =IF($C$48=0,"",C44/$C$48)
B45: Subtotal | C45: =C43+C44 | D45: =D43+D44
B46: Contingency % (enter) | C46: 0.1
...

Sheet Detail
A1: BUDGET DETAIL
A2: Enter quantity, units and rate. Estimate = qty x rate x (1 + fringe). Add rows inside a category and keep its account number in column A.
A4: Acct | B4: Line item | C4: Qty | D4: Units | E4: Rate | F4: Fringe | G4: Estimate | H4: Actual | I4: Notes
B5: 1100 STORY AND RIGHTS
A6: 1100 | B6: Script or story rights | G6: =C6*E6*(1+F6)
A7: 1100 | B7: Research and clearances | G7: =C7*E7*(1+F7)
A8: 1100 | G8: =C8*E8*(1+F8)
B9: 1200 WRITER
A10: 1200 | B10: Writer fee | G10: =C10*E10*(1+F10)
A11: 1200 | G11: =C11*E11*(1+F11)
B12: 1300 PRODUCERS
A13: 1300 | B13: Producer fee | G13: =C13*E13*(1+F13)
A14: 1300 | B14: Line producer | G14: =C14*E14*(1+F14)
A15: 1300 | G15: =C15*E15*(1+F15)
B16: 1400 DIRECTOR
A17: 1400 | B17: Director fee | G17: =C17*E17*(1+F17)
A18: 1400 | G18: =C18*E18*(1+F18)
B19: 1500 CAST
A20: 1500 | B20: Lead actor | G20: =C20*E20*(1+F20)
A21: 1500 | B21: Supporting actor | G21: =C21*E21*(1+F21)
A22: 1500 | B22: Supporting actor | G22: =C22*E22*(1+F22)
A23: 1500 | B23: Casting | G23: =C23*E23*(1+F23)
A24: 1500 | G24: =C24*E24*(1+F24)
B25: 2000 PRODUCTION STAFF
A26: 2000 | B26: 1st assistant director | G26: =C26*E26*(1+F26)
A27: 2000 | B27: Script supervisor | G27: =C27*E27*(1+F27)
A28: 2000 | B28: Production assistants | G28: =C28*E28*(1+F28)
A29: 2000 | G29: =C29*E29*(1+F29)
B30: 2100 CAMERA
A31: 2100 | B31: Director of photography | G31: =C31*E31*(1+F31)
A32: 2100 | B32: 1st AC | G32: =C32*E32*(1+F32)
A33: 2100 | B33: Camera package rental | G33: =C33*E33*(1+F33)
A34: 2100 | B34: Media and drives | G34: =C34*E34*(1+F34)
A35: 2100 | G35: =C35*E35*(1+F35)
B36: 2200 GRIP AND ELECTRIC
A37: 2200 | B37: Gaffer | G37: =C37*E37*(1+F37)
A38: 2200 | B38: Key grip | G38: =C38*E38*(1+F38)
A39: 2200 | B39: Lighting and grip package | G39: =C39*E39*(1+F39)
A40: 2200 | B40: Expendables | G40: =C40*E40*(1+F40)
A41: 2200 | G41: =C41*E41*(1+F41)
...

Sheet Example Top Sheet
A1: FILM BUDGET: TOP SHEET : DEAD AIR (EXAMPLE)
A2: Totals pull from the Detail tab. Only fill in the header and the contingency %.
A4: Project | B4: Dead Air (example) | D4: Producer | E4: Jo Kim
A5: Director | B5: Alex Rivera | D5: Format | E5: 13-page short, digital
A6: Shoot days | B6: 3 shoot days + 1 reserve | D6: Budget version | E6: Locked budget, 6 Oct
A8: Acct | B8: Category | C8: Estimate | D8: Actual | E8: Variance | F8: % of total
B9: ABOVE THE LINE
A10: 1100 | B10: Story and rights | C10: =SUMIF('Example Detail'!$A$5:$A$94,A10,'Example Detail'!$G$5:$G$94) | D10: =SUMIF('Example Detail'!$A$5:$A$94,A10,'Example Detail'!$H$5:$H$94) | E10: =IF(D10=0,"",C10-D10) | F10: =IF($C$48=0,"",C10/$C$48)
A11: 1200 | B11: Writer | C11: =SUMIF('Example Detail'!$A$5:$A$94,A11,'Example Detail'!$G$5:$G$94) | D11: =SUMIF('Example Detail'!$A$5:$A$94,A11,'Example Detail'!$H$5:$H$94) | E11: =IF(D11=0,"",C11-D11) | F11: =IF($C$48=0,"",C11/$C$48)
A12: 1300 | B12: Producers | C12: =SUMIF('Example Detail'!$A$5:$A$94,A12,'Example Detail'!$G$5:$G$94) | D12: =SUMIF('Example Detail'!$A$5:$A$94,A12,'Example Detail'!$H$5:$H$94) | E12: =IF(D12=0,"",C12-D12) | F12: =IF($C$48=0,"",C12/$C$48)
A13: 1400 | B13: Director | C13: =SUMIF('Example Detail'!$A$5:$A$94,A13,'Example Detail'!$G$5:$G$94) | D13: =SUMIF('Example Detail'!$A$5:$A$94,A13,'Example Detail'!$H$5:$H$94) | E13: =IF(D13=0,"",C13-D13) | F13: =IF($C$48=0,"",C13/$C$48)
A14: 1500 | B14: Cast | C14: =SUMIF('Example Detail'!$A$5:$A$94,A14,'Example Detail'!$G$5:$G$94) | D14: =SUMIF('Example Detail'!$A$5:$A$94,A14,'Example Detail'!$H$5:$H$94) | E14: =IF(D14=0,"",C14-D14) | F14: =IF($C$48=0,"",C14/$C$48)
B15: Total above the line | C15: =SUM(C10:C14) | D15: =SUM(D10:D14) | E15: =IF(D15=0,"",C15-D15) | F15: =IF($C$48=0,"",C15/$C$48)
B17: BELOW THE LINE: PRODUCTION
A18: 2000 | B18: Production staff | C18: =SUMIF('Example Detail'!$A$5:$A$94,A18,'Example Detail'!$G$5:$G$94) | D18: =SUMIF('Example Detail'!$A$5:$A$94,A18,'Example Detail'!$H$5:$H$94) | E18: =IF(D18=0,"",C18-D18) | F18: =IF($C$48=0,"",C18/$C$48)
A19: 2100 | B19: Camera | C19: =SUMIF('Example Detail'!$A$5:$A$94,A19,'Example Detail'!$G$5:$G$94) | D19: =SUMIF('Example Detail'!$A$5:$A$94,A19,'Example Detail'!$H$5:$H$94) | E19: =IF(D19=0,"",C19-D19) | F19: =IF($C$48=0,"",C19/$C$48)
A20: 2200 | B20: Grip and electric | C20: =SUMIF('Example Detail'!$A$5:$A$94,A20,'Example Detail'!$G$5:$G$94) | D20: =SUMIF('Example Detail'!$A$5:$A$94,A20,'Example Detail'!$H$5:$H$94) | E20: =IF(D20=0,"",C20-D20) | F20: =IF($C$48=0,"",C20/$C$48)
A21: 2300 | B21: Sound | C21: =SUMIF('Example Detail'!$A$5:$A$94,A21,'Example Detail'!$G$5:$G$94) | D21: =SUMIF('Example Detail'!$A$5:$A$94,A21,'Example Detail'!$H$5:$H$94) | E21: =IF(D21=0,"",C21-D21) | F21: =IF($C$48=0,"",C21/$C$48)
A22: 2400 | B22: Art department | C22: =SUMIF('Example Detail'!$A$5:$A$94,A22,'Example Detail'!$G$5:$G$94) | D22: =SUMIF('Example Detail'!$A$5:$A$94,A22,'Example Detail'!$H$5:$H$94) | E22: =IF(D22=0,"",C22-D22) | F22: =IF($C$48=0,"",C22/$C$48)
A23: 2500 | B23: Wardrobe, hair and makeup | C23: =SUMIF('Example Detail'!$A$5:$A$94,A23,'Example Detail'!$G$5:$G$94) | D23: =SUMIF('Example Detail'!$A$5:$A$94,A23,'Example Detail'!$H$5:$H$94) | E23: =IF(D23=0,"",C23-D23) | F23: =IF($C$48=0,"",C23/$C$48)
A24: 2600 | B24: Locations | C24: =SUMIF('Example Detail'!$A$5:$A$94,A24,'Example Detail'!$G$5:$G$94) | D24: =SUMIF('Example Detail'!$A$5:$A$94,A24,'Example Detail'!$H$5:$H$94) | E24: =IF(D24=0,"",C24-D24) | F24: =IF($C$48=0,"",C24/$C$48)
A25: 2700 | B25: Transportation | C25: =SUMIF('Example Detail'!$A$5:$A$94,A25,'Example Detail'!$G$5:$G$94) | D25: =SUMIF('Example Detail'!$A$5:$A$94,A25,'Example Detail'!$H$5:$H$94) | E25: =IF(D25=0,"",C25-D25) | F25: =IF($C$48=0,"",C25/$C$48)
A26: 2800 | B26: Catering and craft services | C26: =SUMIF('Example Detail'!$A$5:$A$94,A26,'Example Detail'!$G$5:$G$94) | D26: =SUMIF('Example Detail'!$A$5:$A$94,A26,'Example Detail'!$H$5:$H$94) | E26: =IF(D26=0,"",C26-D26) | F26: =IF($C$48=0,"",C26/$C$48)
A27: 2900 | B27: Special equipment and effects | C27: =SUMIF('Example Detail'!$A$5:$A$94,A27,'Example Detail'!$G$5:$G$94) | D27: =SUMIF('Example Detail'!$A$5:$A$94,A27,'Example Detail'!$H$5:$H$94) | E27: =IF(D27=0,"",C27-D27) | F27: =IF($C$48=0,"",C27/$C$48)
B28: Total production | C28: =SUM(C18:C27) | D28: =SUM(D18:D27) | E28: =IF(D28=0,"",C28-D28) | F28: =IF($C$48=0,"",C28/$C$48)
B30: POST-PRODUCTION
A31: 3000 | B31: Editing | C31: =SUMIF('Example Detail'!$A$5:$A$94,A31,'Example Detail'!$G$5:$G$94) | D31: =SUMIF('Example Detail'!$A$5:$A$94,A31,'Example Detail'!$H$5:$H$94) | E31: =IF(D31=0,"",C31-D31) | F31: =IF($C$48=0,"",C31/$C$48)
A32: 3100 | B32: Sound post and music | C32: =SUMIF('Example Detail'!$A$5:$A$94,A32,'Example Detail'!$G$5:$G$94) | D32: =SUMIF('Example Detail'!$A$5:$A$94,A32,'Example Detail'!$H$5:$H$94) | E32: =IF(D32=0,"",C32-D32) | F32: =IF($C$48=0,"",C32/$C$48)
A33: 3200 | B33: Color and VFX | C33: =SUMIF('Example Detail'!$A$5:$A$94,A33,'Example Detail'!$G$5:$G$94) | D33: =SUMIF('Example Detail'!$A$5:$A$94,A33,'Example Detail'!$H$5:$H$94) | E33: =IF(D33=0,"",C33-D33) | F33: =IF($C$48=0,"",C33/$C$48)
A34: 3300 | B34: Titles and deliverables | C34: =SUMIF('Example Detail'!$A$5:$A$94,A34,'Example Detail'!$G$5:$G$94) | D34: =SUMIF('Example Detail'!$A$5:$A$94,A34,'Example Detail'!$H$5:$H$94) | E34: =IF(D34=0,"",C34-D34) | F34: =IF($C$48=0,"",C34/$C$48)
B35: Total post-production | C35: =SUM(C31:C34) | D35: =SUM(D31:D34) | E35: =IF(D35=0,"",C35-D35) | F35: =IF($C$48=0,"",C35/$C$48)
B37: OTHER COSTS
A38: 4000 | B38: Insurance | C38: =SUMIF('Example Detail'!$A$5:$A$94,A38,'Example Detail'!$G$5:$G$94) | D38: =SUMIF('Example Detail'!$A$5:$A$94,A38,'Example Detail'!$H$5:$H$94) | E38: =IF(D38=0,"",C38-D38) | F38: =IF($C$48=0,"",C38/$C$48)
A39: 4100 | B39: Legal and accounting | C39: =SUMIF('Example Detail'!$A$5:$A$94,A39,'Example Detail'!$G$5:$G$94) | D39: =SUMIF('Example Detail'!$A$5:$A$94,A39,'Example Detail'!$H$5:$H$94) | E39: =IF(D39=0,"",C39-D39) | F39: =IF($C$48=0,"",C39/$C$48)
A40: 4200 | B40: Festivals and marketing | C40: =SUMIF('Example Detail'!$A$5:$A$94,A40,'Example Detail'!$G$5:$G$94) | D40: =SUMIF('Example Detail'!$A$5:$A$94,A40,'Example Detail'!$H$5:$H$94) | E40: =IF(D40=0,"",C40-D40) | F40: =IF($C$48=0,"",C40/$C$48)
B41: Total other costs | C41: =SUM(C38:C40) | D41: =SUM(D38:D40) | E41: =IF(D41=0,"",C41-D41) | F41: =IF($C$48=0,"",C41/$C$48)
B43: Total above the line | C43: =C15 | D43: =D15 | E43: =IF(D43=0,"",C43-D43) | F43: =IF($C$48=0,"",C43/$C$48)
B44: Total below the line (production, post, other) | C44: =C28+C35+C41 | D44: =D28+D35+D41 | E44: =IF(D44=0,"",C44-D44) | F44: =IF($C$48=0,"",C44/$C$48)
B45: Subtotal | C45: =C43+C44 | D45: =D43+D44
B46: Contingency % (enter) | C46: 0.1
...

Sheet Example Detail
A1: BUDGET DETAIL : DEAD AIR (EXAMPLE)
A2: Enter quantity, units and rate. Estimate = qty x rate x (1 + fringe). Add rows inside a category and keep its account number in column A.
A4: Acct | B4: Line item | C4: Qty | D4: Units | E4: Rate | F4: Fringe | G4: Estimate | H4: Actual | I4: Notes
B5: 1100 STORY AND RIGHTS
A6: 1100 | B6: Script (writer-director's original) | C6: 1 | D6: Flat | E6: 0 | F6: 0 | G6: =C6*E6*(1+F6) | I6: Original script
A7: 1100 | G7: =C7*E7*(1+F7)
B8: 1200 WRITER
A9: 1200 | B9: Writer fee | C9: 1 | D9: Flat | E9: 500 | F9: 0 | G9: =C9*E9*(1+F9) | H9: 500
A10: 1200 | G10: =C10*E10*(1+F10)
B11: 1300 PRODUCERS
A12: 1300 | B12: Producer fee | C12: 1 | D12: Flat | E12: 750 | F12: 0 | G12: =C12*E12*(1+F12) | H12: 750 | I12: Also line producer
A13: 1300 | G13: =C13*E13*(1+F13)
B14: 1400 DIRECTOR
A15: 1400 | B15: Director fee | C15: 1 | D15: Flat | E15: 750 | F15: 0 | G15: =C15*E15*(1+F15) | H15: 750
A16: 1400 | G16: =C16*E16*(1+F16)
B17: 1500 CAST
A18: 1500 | B18: Nora (Jess Monroe) | C18: 3 | D18: Days | E18: 300 | F18: 0 | G18: =C18*E18*(1+F18) | H18: 900 | I18: All 3 shoot days
A19: 1500 | B19: Eddie (Tom Achebe) | C19: 2 | D19: Days | E19: 250 | F19: 0 | G19: =C19*E19*(1+F19) | H19: 500 | I19: Days 1 and 2
A20: 1500 | B20: The Caller, voice (Rick Hale) | C20: 2 | D20: Days | E20: 250 | F20: 0 | G20: =C20*E20*(1+F20) | H20: 500 | I20: Pre-record + day 2
A21: 1500 | B21: Walt (Gus Pena) | C21: 1 | D21: Days | E21: 200 | F21: 0 | G21: =C21*E21*(1+F21) | H21: 200 | I21: Day 3 only
A22: 1500 | G22: =C22*E22*(1+F22)
B23: 2000 PRODUCTION STAFF
A24: 2000 | B24: 1st AD (Priya Shah) | C24: 3 | D24: Days | E24: 350 | F24: 0 | G24: =C24*E24*(1+F24) | H24: 1050
A25: 2000 | B25: Production assistants (2) | C25: 6 | D25: Days | E25: 150 | F25: 0 | G25: =C25*E25*(1+F25) | H25: 900 | I25: 2 PAs x 3 days
A26: 2000 | G26: =C26*E26*(1+F26)
B27: 2100 CAMERA
A28: 2100 | B28: Director of photography | C28: 3 | D28: Days | E28: 500 | F28: 0 | G28: =C28*E28*(1+F28) | H28: 1500
A29: 2100 | B29: 1st AC | C29: 3 | D29: Days | E29: 300 | F29: 0 | G29: =C29*E29*(1+F29) | H29: 900
A30: 2100 | B30: Camera package rental | C30: 3 | D30: Days | E30: 450 | F30: 0 | G30: =C30*E30*(1+F30) | H30: 1350 | I30: 3-day rental rate
A31: 2100 | B31: Media and drives | C31: 1 | D31: Allow | E31: 200 | F31: 0 | G31: =C31*E31*(1+F31) | H31: 240 | I31: Bought an extra drive
A32: 2100 | G32: =C32*E32*(1+F32)
B33: 2200 GRIP AND ELECTRIC
A34: 2200 | B34: Gaffer | C34: 3 | D34: Days | E34: 350 | F34: 0 | G34: =C34*E34*(1+F34) | H34: 1050
A35: 2200 | B35: Key grip | C35: 3 | D35: Days | E35: 300 | F35: 0 | G35: =C35*E35*(1+F35) | H35: 900
A36: 2200 | B36: Lighting and grip package | C36: 3 | D36: Days | E36: 300 | F36: 0 | G36: =C36*E36*(1+F36) | H36: 900
A37: 2200 | B37: Expendables | C37: 1 | D37: Allow | E37: 150 | F37: 0 | G37: =C37*E37*(1+F37) | H37: 120 | I37: Gels, tape, blackwrap
A38: 2200 | G38: =C38*E38*(1+F38)
B39: 2300 SOUND
A40: 2300 | B40: Sound mixer and kit | C40: 3 | D40: Days | E40: 450 | F40: 0 | G40: =C40*E40*(1+F40) | H40: 1350
A41: 2300 | B41: Boom operator | C41: 3 | D41: Days | E41: 200 | F41: 0 | G41: =C41*E41*(1+F41) | H41: 600
...
